BEGIN:VCALENDAR
VERSION:2.0
PRODID:-//Institute of Corrosion - ECPv6.15.20//NONSGML v1.0//EN
CALSCALE:GREGORIAN
METHOD:PUBLISH
X-WR-CALNAME:Institute of Corrosion
X-ORIGINAL-URL:https://www.icorr.org
X-WR-CALDESC:Events for Institute of Corrosion
REFRESH-INTERVAL;VALUE=DURATION:PT1H
X-Robots-Tag:noindex
X-PUBLISHED-TTL:PT1H
BEGIN:VTIMEZONE
TZID:Europe/London
BEGIN:DAYLIGHT
TZOFFSETFROM:+0000
TZOFFSETTO:+0100
TZNAME:BST
DTSTART:20170326T010000
END:DAYLIGHT
BEGIN:STANDARD
TZOFFSETFROM:+0100
TZOFFSETTO:+0000
TZNAME:GMT
DTSTART:20171029T010000
END:STANDARD
BEGIN:DAYLIGHT
TZOFFSETFROM:+0000
TZOFFSETTO:+0100
TZNAME:BST
DTSTART:20180325T010000
END:DAYLIGHT
BEGIN:STANDARD
TZOFFSETFROM:+0100
TZOFFSETTO:+0000
TZNAME:GMT
DTSTART:20181028T010000
END:STANDARD
BEGIN:DAYLIGHT
TZOFFSETFROM:+0000
TZOFFSETTO:+0100
TZNAME:BST
DTSTART:20190331T010000
END:DAYLIGHT
BEGIN:STANDARD
TZOFFSETFROM:+0100
TZOFFSETTO:+0000
TZNAME:GMT
DTSTART:20191027T010000
END:STANDARD
END:VTIMEZONE
BEGIN:VEVENT
DTSTART;TZID=Europe/London:20180308T180000
DTEND;TZID=Europe/London:20180308T210000
DTSTAMP:20260421T055045
CREATED:20171123T211631Z
LAST-MODIFIED:20180215T222215Z
UID:2952-1520532000-1520542800@www.icorr.org
SUMMARY:London Branch March Meeting
DESCRIPTION:Technology Advancements in Integrity Management of Storage Tanks \nBy \nJohn Lilley and Mark Stone \nSonomatic Ltd \n The industry is well versed with Corrosion mapping of vessels and pipework but Corrosion Mapping of Storage Tanks has always relied on “dropping the tank” which has an impact on production and risk. The industry does not like working in confined spaces and there are moves towards zero-man entry over the lifetime of storage and process vessels. \nStorage Tanks are susceptible to a range of internal and external corrosion processes. As such inspection plays a major role in effective integrity management of Storage Tanks. Historically\, inspection of the floor has relied on emptying the tank and personnel entry for cleaning and inspection. Internal inspection for other mechanisms also takes place at this time. This means tanks can be out of service for significant periods of time. \nSonomatic have developed a range of methods for inspection of Storage Tanks while in-service. A key element is robotic cleaning and inspection of the floor. This forms part of a comprehensive inspection in which the tank shell is also inspected non-intrusively using ultrasonic corrosion mapping supported by statistical analysis. The presentation will give an overview of the technologies involved\, how these link into more efficient integrity management of Storage Tanks and will also include a case study of field application. \nA fascinating not to be missed presentation \n For further information please contact  \nicorrlondon@gmail.com \n 
URL:https://www.icorr.org/event/london-branch-march-meeting/
LOCATION:Imperial College\, Skempton Building\, London SW7 2BB\, Skempton Building\, London\, SW7 2BB
CATEGORIES:London Branch
END:VEVENT
END:VCALENDAR