BEGIN:VCALENDAR
VERSION:2.0
PRODID:-//Institute of Corrosion - ECPv6.15.20//NONSGML v1.0//EN
CALSCALE:GREGORIAN
METHOD:PUBLISH
X-WR-CALNAME:Institute of Corrosion
X-ORIGINAL-URL:https://www.icorr.org
X-WR-CALDESC:Events for Institute of Corrosion
REFRESH-INTERVAL;VALUE=DURATION:PT1H
X-Robots-Tag:noindex
X-PUBLISHED-TTL:PT1H
BEGIN:VTIMEZONE
TZID:Europe/London
BEGIN:DAYLIGHT
TZOFFSETFROM:+0000
TZOFFSETTO:+0100
TZNAME:BST
DTSTART:20170326T010000
END:DAYLIGHT
BEGIN:STANDARD
TZOFFSETFROM:+0100
TZOFFSETTO:+0000
TZNAME:GMT
DTSTART:20171029T010000
END:STANDARD
BEGIN:DAYLIGHT
TZOFFSETFROM:+0000
TZOFFSETTO:+0100
TZNAME:BST
DTSTART:20180325T010000
END:DAYLIGHT
BEGIN:STANDARD
TZOFFSETFROM:+0100
TZOFFSETTO:+0000
TZNAME:GMT
DTSTART:20181028T010000
END:STANDARD
BEGIN:DAYLIGHT
TZOFFSETFROM:+0000
TZOFFSETTO:+0100
TZNAME:BST
DTSTART:20190331T010000
END:DAYLIGHT
BEGIN:STANDARD
TZOFFSETFROM:+0100
TZOFFSETTO:+0000
TZNAME:GMT
DTSTART:20191027T010000
END:STANDARD
END:VTIMEZONE
BEGIN:VEVENT
DTSTART;TZID=Europe/London:20180327T180000
DTEND;TZID=Europe/London:20180327T210000
DTSTAMP:20260421T055120
CREATED:20170710T125253Z
LAST-MODIFIED:20170710T125314Z
UID:2227-1522173600-1522184400@www.icorr.org
SUMMARY:Aberdeen Branch Industrial Visit
DESCRIPTION:Element Materials Technology\nIndustrial Visit to Element’s New H2S/Sour Service Lab in Aberdeen \nVisit to start from 6.30pm
URL:https://www.icorr.org/event/aberdeen-branch-joint-meeting-with-twi-3-2/
LOCATION:Hareness Circle\, Hareness Circle\, Altens Industrial Estate\, Aberdeen\, AB12 3LY\, United Kingdom
CATEGORIES:Aberdeen Branch
ATTACH;FMTTYPE=image/jpeg:https://www.icorr.org/wp-content/uploads/2017/07/Logo-Client-ElementMaterialTechnologies-2.jpg
END:VEVENT
END:VCALENDAR