BEGIN:VCALENDAR
VERSION:2.0
PRODID:-//Institute of Corrosion - ECPv6.15.20//NONSGML v1.0//EN
CALSCALE:GREGORIAN
METHOD:PUBLISH
X-WR-CALNAME:Institute of Corrosion
X-ORIGINAL-URL:https://www.icorr.org
X-WR-CALDESC:Events for Institute of Corrosion
REFRESH-INTERVAL;VALUE=DURATION:PT1H
X-Robots-Tag:noindex
X-PUBLISHED-TTL:PT1H
BEGIN:VTIMEZONE
TZID:Europe/London
BEGIN:DAYLIGHT
TZOFFSETFROM:+0000
TZOFFSETTO:+0100
TZNAME:BST
DTSTART:20170326T010000
END:DAYLIGHT
BEGIN:STANDARD
TZOFFSETFROM:+0100
TZOFFSETTO:+0000
TZNAME:GMT
DTSTART:20171029T010000
END:STANDARD
BEGIN:DAYLIGHT
TZOFFSETFROM:+0000
TZOFFSETTO:+0100
TZNAME:BST
DTSTART:20180325T010000
END:DAYLIGHT
BEGIN:STANDARD
TZOFFSETFROM:+0100
TZOFFSETTO:+0000
TZNAME:GMT
DTSTART:20181028T010000
END:STANDARD
BEGIN:DAYLIGHT
TZOFFSETFROM:+0000
TZOFFSETTO:+0100
TZNAME:BST
DTSTART:20190331T010000
END:DAYLIGHT
BEGIN:STANDARD
TZOFFSETFROM:+0100
TZOFFSETTO:+0000
TZNAME:GMT
DTSTART:20191027T010000
END:STANDARD
END:VTIMEZONE
BEGIN:VEVENT
DTSTART;TZID=Europe/London:20180410T173000
DTEND;TZID=Europe/London:20180410T200000
DTSTAMP:20260420T201804
CREATED:20180307T204112Z
LAST-MODIFIED:20180307T204112Z
UID:3351-1523381400-1523390400@www.icorr.org
SUMMARY:Midlands Branch Meeting
DESCRIPTION: Date:               Tuesday\, 10th April 2018 \nVenue:             Amey International Design Hub\, 20 Colmore Circus Queensway\, Birmingham B4 6AT \n Time:               17:30 – 20:00 – Food and light refreshment provided \n Topics:             Branch AGM Meeting\, follow by three presentations detailing advancements in Galvanic Anode systems   for use in reinforced concrete structures by Senior Corrosion Specialists from Mapei\, CPT Ltd and Vector Corrosion Technologies Ltd.  \n 
URL:https://www.icorr.org/event/midlands-branch-meeting/
LOCATION:Amey International Design Hub\, 20 Colmore Circus Queensway\, Birmingham\, B4 6AT\, United Kingdom
CATEGORIES:Midlands Branch
END:VEVENT
END:VCALENDAR