BEGIN:VCALENDAR
VERSION:2.0
PRODID:-//Institute of Corrosion - ECPv6.15.20//NONSGML v1.0//EN
CALSCALE:GREGORIAN
METHOD:PUBLISH
X-WR-CALNAME:Institute of Corrosion
X-ORIGINAL-URL:https://www.icorr.org
X-WR-CALDESC:Events for Institute of Corrosion
REFRESH-INTERVAL;VALUE=DURATION:PT1H
X-Robots-Tag:noindex
X-PUBLISHED-TTL:PT1H
BEGIN:VTIMEZONE
TZID:Europe/London
BEGIN:DAYLIGHT
TZOFFSETFROM:+0000
TZOFFSETTO:+0100
TZNAME:BST
DTSTART:20170326T010000
END:DAYLIGHT
BEGIN:STANDARD
TZOFFSETFROM:+0100
TZOFFSETTO:+0000
TZNAME:GMT
DTSTART:20171029T010000
END:STANDARD
BEGIN:DAYLIGHT
TZOFFSETFROM:+0000
TZOFFSETTO:+0100
TZNAME:BST
DTSTART:20180325T010000
END:DAYLIGHT
BEGIN:STANDARD
TZOFFSETFROM:+0100
TZOFFSETTO:+0000
TZNAME:GMT
DTSTART:20181028T010000
END:STANDARD
BEGIN:DAYLIGHT
TZOFFSETFROM:+0000
TZOFFSETTO:+0100
TZNAME:BST
DTSTART:20190331T010000
END:DAYLIGHT
BEGIN:STANDARD
TZOFFSETFROM:+0100
TZOFFSETTO:+0000
TZNAME:GMT
DTSTART:20191027T010000
END:STANDARD
END:VTIMEZONE
BEGIN:VEVENT
DTSTART;TZID=Europe/London:20180412T180000
DTEND;TZID=Europe/London:20180412T203000
DTSTAMP:20260421T100733
CREATED:20171123T211802Z
LAST-MODIFIED:20171123T211802Z
UID:2954-1523556000-1523565000@www.icorr.org
SUMMARY:London Branch April Meeting
DESCRIPTION:
URL:https://www.icorr.org/event/london-branch-april-meeting/
LOCATION:Imperial College\, Skempton Building\, London SW7 2BB\, Skempton Building\, London\, SW7 2BB
CATEGORIES:London Branch
END:VEVENT
BEGIN:VEVENT
DTSTART;TZID=Europe/London:20180412T180000
DTEND;TZID=Europe/London:20180412T210000
DTSTAMP:20260421T100733
CREATED:20170627T132248Z
LAST-MODIFIED:20170627T132248Z
UID:1990-1523556000-1523566800@www.icorr.org
SUMMARY:London Branch joint meeting with NACE
DESCRIPTION:More information to follow ….
URL:https://www.icorr.org/event/london-branch-joint-meeting-with-nace/
CATEGORIES:London Branch
END:VEVENT
END:VCALENDAR