BEGIN:VCALENDAR
VERSION:2.0
PRODID:-//Institute of Corrosion - ECPv6.15.20//NONSGML v1.0//EN
CALSCALE:GREGORIAN
METHOD:PUBLISH
X-ORIGINAL-URL:https://www.icorr.org
X-WR-CALDESC:Events for Institute of Corrosion
REFRESH-INTERVAL;VALUE=DURATION:PT1H
X-Robots-Tag:noindex
X-PUBLISHED-TTL:PT1H
BEGIN:VTIMEZONE
TZID:Europe/London
BEGIN:DAYLIGHT
TZOFFSETFROM:+0000
TZOFFSETTO:+0100
TZNAME:BST
DTSTART:20170326T010000
END:DAYLIGHT
BEGIN:STANDARD
TZOFFSETFROM:+0100
TZOFFSETTO:+0000
TZNAME:GMT
DTSTART:20171029T010000
END:STANDARD
BEGIN:DAYLIGHT
TZOFFSETFROM:+0000
TZOFFSETTO:+0100
TZNAME:BST
DTSTART:20180325T010000
END:DAYLIGHT
BEGIN:STANDARD
TZOFFSETFROM:+0100
TZOFFSETTO:+0000
TZNAME:GMT
DTSTART:20181028T010000
END:STANDARD
BEGIN:DAYLIGHT
TZOFFSETFROM:+0000
TZOFFSETTO:+0100
TZNAME:BST
DTSTART:20190331T010000
END:DAYLIGHT
BEGIN:STANDARD
TZOFFSETFROM:+0100
TZOFFSETTO:+0000
TZNAME:GMT
DTSTART:20191027T010000
END:STANDARD
END:VTIMEZONE
BEGIN:VEVENT
DTSTART;TZID=Europe/London:20180801T210000
DTEND;TZID=Europe/London:20180801T210000
DTSTAMP:20260423T164559
CREATED:20180703T064849Z
LAST-MODIFIED:20180703T064849Z
UID:3788-1533157200-1533157200@www.icorr.org
SUMMARY:Wet applied Tank Linings
DESCRIPTION:This will provide an overview of: \n·      Key technologies \n·       Application methods and challenges \n·       Correct specification for service environment
URL:https://www.icorr.org/event/wet-applied-tank-linings/
CATEGORIES:North East Branch
END:VEVENT
END:VCALENDAR