BEGIN:VCALENDAR
VERSION:2.0
PRODID:-//Institute of Corrosion - ECPv6.15.20//NONSGML v1.0//EN
CALSCALE:GREGORIAN
METHOD:PUBLISH
X-WR-CALNAME:Institute of Corrosion
X-ORIGINAL-URL:https://www.icorr.org
X-WR-CALDESC:Events for Institute of Corrosion
REFRESH-INTERVAL;VALUE=DURATION:PT1H
X-Robots-Tag:noindex
X-PUBLISHED-TTL:PT1H
BEGIN:VTIMEZONE
TZID:Europe/London
BEGIN:DAYLIGHT
TZOFFSETFROM:+0000
TZOFFSETTO:+0100
TZNAME:BST
DTSTART:20200329T010000
END:DAYLIGHT
BEGIN:STANDARD
TZOFFSETFROM:+0100
TZOFFSETTO:+0000
TZNAME:GMT
DTSTART:20201025T010000
END:STANDARD
BEGIN:DAYLIGHT
TZOFFSETFROM:+0000
TZOFFSETTO:+0100
TZNAME:BST
DTSTART:20210328T010000
END:DAYLIGHT
BEGIN:STANDARD
TZOFFSETFROM:+0100
TZOFFSETTO:+0000
TZNAME:GMT
DTSTART:20211031T010000
END:STANDARD
BEGIN:DAYLIGHT
TZOFFSETFROM:+0000
TZOFFSETTO:+0100
TZNAME:BST
DTSTART:20220327T010000
END:DAYLIGHT
BEGIN:STANDARD
TZOFFSETFROM:+0100
TZOFFSETTO:+0000
TZNAME:GMT
DTSTART:20221030T010000
END:STANDARD
END:VTIMEZONE
BEGIN:VEVENT
DTSTART;TZID=Europe/London:20210525T080000
DTEND;TZID=Europe/London:20210528T170000
DTSTAMP:20260422T131429
CREATED:20210326T091610Z
LAST-MODIFIED:20210408T110003Z
UID:12074-1621929600-1622221200@www.icorr.org
SUMMARY:CEOCOR 2021 CONGRESS: SAVE THE DATE
DESCRIPTION:Save the date Information \nSponsorship Opportunities Information \nGo to www.ceocor2021.com to keep up to date with the latest CeoCor 2021 news! \n  \n 
URL:https://www.icorr.org/event/ceocor-2021-congress-save-the-date/
END:VEVENT
BEGIN:VEVENT
DTSTART;TZID=Europe/London:20210526T090000
DTEND;TZID=Europe/London:20210528T130000
DTSTAMP:20260422T131429
CREATED:20210319T102345Z
LAST-MODIFIED:20210319T102615Z
UID:12023-1622019600-1622206800@www.icorr.org
SUMMARY:Corrosion Under Insulation
DESCRIPTION:I am happy to announce that our highly-demanded masterclass is coming back this May. As corrosion hasn’t slowed down in the current climate\, make sure to join us online live! \nThese are your key takeaways from attending: \n\nUnderstand the options available to combat CUI and their strengths and limitations\nLearn about common mistakes\nLearn about the CUI innovation initiatives\nBenefit from the combined experience of ourtrainers\nEngage in technical and scientific discussion\nIs a life expectancy of 25+ years possible?\n\nFor more information\, please visit the event website.or download the event brochure to see the detailed program \n“Great course\, gave excellent insight and provided us with the tools to tackle this problem at our own plant.”Leon Kanters\, Reliability Engineer\, Trespa\, Netherlands
URL:https://www.icorr.org/event/corrosion-under-insulation/
END:VEVENT
END:VCALENDAR