BEGIN:VCALENDAR
VERSION:2.0
PRODID:-//Institute of Corrosion - ECPv6.15.20//NONSGML v1.0//EN
CALSCALE:GREGORIAN
METHOD:PUBLISH
X-WR-CALNAME:Institute of Corrosion
X-ORIGINAL-URL:https://www.icorr.org
X-WR-CALDESC:Events for Institute of Corrosion
REFRESH-INTERVAL;VALUE=DURATION:PT1H
X-Robots-Tag:noindex
X-PUBLISHED-TTL:PT1H
BEGIN:VTIMEZONE
TZID:Europe/London
BEGIN:DAYLIGHT
TZOFFSETFROM:+0000
TZOFFSETTO:+0100
TZNAME:BST
DTSTART:20210328T010000
END:DAYLIGHT
BEGIN:STANDARD
TZOFFSETFROM:+0100
TZOFFSETTO:+0000
TZNAME:GMT
DTSTART:20211031T010000
END:STANDARD
BEGIN:DAYLIGHT
TZOFFSETFROM:+0000
TZOFFSETTO:+0100
TZNAME:BST
DTSTART:20220327T010000
END:DAYLIGHT
BEGIN:STANDARD
TZOFFSETFROM:+0100
TZOFFSETTO:+0000
TZNAME:GMT
DTSTART:20221030T010000
END:STANDARD
BEGIN:DAYLIGHT
TZOFFSETFROM:+0000
TZOFFSETTO:+0100
TZNAME:BST
DTSTART:20230326T010000
END:DAYLIGHT
BEGIN:STANDARD
TZOFFSETFROM:+0100
TZOFFSETTO:+0000
TZNAME:GMT
DTSTART:20231029T010000
END:STANDARD
END:VTIMEZONE
BEGIN:VEVENT
DTSTART;TZID=Europe/London:20220316T173000
DTEND;TZID=Europe/London:20220316T210000
DTSTAMP:20260423T040945
CREATED:20220308T104919Z
LAST-MODIFIED:20220308T104919Z
UID:15603-1647451800-1647464400@www.icorr.org
SUMMARY:The Welding Institute - London Branch Meeting
DESCRIPTION:In-person and online meeting \nAn insight into development and testing of pipeline steels at ArcelorMittal; covering metallurgy\, welding and properties testing \nThis presentation will give some examples of work performed at ArcelorMittal Global R&D research centre in Ghent (Belgium) for linepipe steels from coil. The work is designed to give modern linepipe steels the required combination of properties that make them suitable for use in critical oil and gas applications. The talk will include discussion of metallurgical mechanisms\, weldability for submerged arc and GMAW welding and the influence of forming operations on tensile and toughness properties. \nWe are fortunate that Christoph is coming over specifically to talk to us and this talk will merit attendance in person. Given by Christoph Gerritsen Senior Project Engineer ArcelorMittal Global R&D Gent/OCAS NV Christoph Gerritsen holds an MSc in Materials Science & Engineering with a specialisation in welding from Delft University of Technology. He started his professional career in 1999 at TWI Ltd\, working on high power laser materials processing. In 2005\, he moved to ArcelorMittal Global R&D Gent in Belgium as a senior project engineer. Here\, he runs welding projects covering a very wide range of industrial applications and welding processes\, mostly for C-Mn steels. \nRefreshments from 5:30 and Buffet to follow \nLocation: The York Room\, Lancaster Hall Hotel\, 35 Craven Terrace\, London Lunite.\nThe hotel is five minutes walk from Lancaster Gate Underground Station \nPlease register for either in-person or for online attendance. https://theweldinginstitute.com/events
URL:https://www.icorr.org/event/the-welding-institute-london-branch-meeting/
LOCATION:Lancaster Hall Hotel\, 35 Craven Terrace\, London\, W2 3EL\, United Kingdom
CATEGORIES:London Branch
END:VEVENT
END:VCALENDAR