BEGIN:VCALENDAR
VERSION:2.0
PRODID:-//Institute of Corrosion - ECPv6.15.20//NONSGML v1.0//EN
CALSCALE:GREGORIAN
METHOD:PUBLISH
X-ORIGINAL-URL:https://www.icorr.org
X-WR-CALDESC:Events for Institute of Corrosion
REFRESH-INTERVAL;VALUE=DURATION:PT1H
X-Robots-Tag:noindex
X-PUBLISHED-TTL:PT1H
BEGIN:VTIMEZONE
TZID:Europe/London
BEGIN:DAYLIGHT
TZOFFSETFROM:+0000
TZOFFSETTO:+0100
TZNAME:BST
DTSTART:20210328T010000
END:DAYLIGHT
BEGIN:STANDARD
TZOFFSETFROM:+0100
TZOFFSETTO:+0000
TZNAME:GMT
DTSTART:20211031T010000
END:STANDARD
BEGIN:DAYLIGHT
TZOFFSETFROM:+0000
TZOFFSETTO:+0100
TZNAME:BST
DTSTART:20220327T010000
END:DAYLIGHT
BEGIN:STANDARD
TZOFFSETFROM:+0100
TZOFFSETTO:+0000
TZNAME:GMT
DTSTART:20221030T010000
END:STANDARD
BEGIN:DAYLIGHT
TZOFFSETFROM:+0000
TZOFFSETTO:+0100
TZNAME:BST
DTSTART:20230326T010000
END:DAYLIGHT
BEGIN:STANDARD
TZOFFSETFROM:+0100
TZOFFSETTO:+0000
TZNAME:GMT
DTSTART:20231029T010000
END:STANDARD
END:VTIMEZONE
BEGIN:VEVENT
DTSTART;TZID=Europe/London:20221025T180000
DTEND;TZID=Europe/London:20221025T200000
DTSTAMP:20260422T002240
CREATED:20221013T145840Z
LAST-MODIFIED:20221013T150335Z
UID:17492-1666720800-1666728000@www.icorr.org
SUMMARY:ICORR ABERDEEN BRANCH Tuesday 25th October 2022
DESCRIPTION:Tuesday 25th October 2022\, Start Time: 18:00 (UK Time)\nLocation: Via Zoom Meeting \nDownload PDF \nZoom Registration link for virtual attendees:\nhttps://us06web.zoom.us/webinar/register/WN_nn3v0vEpRImxBZnLT2AUkQ \nStating – ICorr Member or Non-Member\nEvent is Free of Charge to attend. \nSubject: Flange Face Corrosion in seawater and hydrocarbon environments related to gasket material selection.\nSpeaker: Vinay Tripurana\, Applications Engineering\, Manager – Flexitallic UK Ltd \nEvent Programme:\n17:55 – 18:00 Webinar Login / Set-Up.\n18:00 – 18:15 AGM ICorr Aberdeen\n18:15 – 18:55 Technical Presentation\n18:55 – 19.05 Q&A Session\n19:05 – 19.10 Closing Remarks ICorr. \nAbout the Speaker:\nVinay Tripurana oversees the Flexitallic UK Applications Engineering Team which provides comprehensive technical support and training to our global customer base and helps in strengthening Flexitallic’s position as a leading supplier of sealing products and engineering excellence. Vinay is a Chartered Mechanical Engineer with Masters’ degree in Manufacturing Systems and has several years’ experience in providing engineered solutions to a wide range of industries including automotive\, fabrication and sealing technology. \n \nDownload PDF
URL:https://www.icorr.org/event/icorr-aberdeen-branch-tuesday-25th-october-2022/
CATEGORIES:Aberdeen Branch
ATTACH;FMTTYPE=image/png:https://www.icorr.org/wp-content/uploads/2022/10/Vinay.png
END:VEVENT
END:VCALENDAR