BEGIN:VCALENDAR
VERSION:2.0
PRODID:-//Institute of Corrosion - ECPv6.15.20//NONSGML v1.0//EN
CALSCALE:GREGORIAN
METHOD:PUBLISH
X-WR-CALNAME:Institute of Corrosion
X-ORIGINAL-URL:https://www.icorr.org
X-WR-CALDESC:Events for Institute of Corrosion
REFRESH-INTERVAL;VALUE=DURATION:PT1H
X-Robots-Tag:noindex
X-PUBLISHED-TTL:PT1H
BEGIN:VTIMEZONE
TZID:Europe/London
BEGIN:DAYLIGHT
TZOFFSETFROM:+0000
TZOFFSETTO:+0100
TZNAME:BST
DTSTART:20210328T010000
END:DAYLIGHT
BEGIN:STANDARD
TZOFFSETFROM:+0100
TZOFFSETTO:+0000
TZNAME:GMT
DTSTART:20211031T010000
END:STANDARD
BEGIN:DAYLIGHT
TZOFFSETFROM:+0000
TZOFFSETTO:+0100
TZNAME:BST
DTSTART:20220327T010000
END:DAYLIGHT
BEGIN:STANDARD
TZOFFSETFROM:+0100
TZOFFSETTO:+0000
TZNAME:GMT
DTSTART:20221030T010000
END:STANDARD
BEGIN:DAYLIGHT
TZOFFSETFROM:+0000
TZOFFSETTO:+0100
TZNAME:BST
DTSTART:20230326T010000
END:DAYLIGHT
BEGIN:STANDARD
TZOFFSETFROM:+0100
TZOFFSETTO:+0000
TZNAME:GMT
DTSTART:20231029T010000
END:STANDARD
END:VTIMEZONE
BEGIN:VEVENT
DTSTART;TZID=Europe/London:20221201T090000
DTEND;TZID=Europe/London:20221201T160000
DTSTAMP:20260425T020011
CREATED:20221031T101849Z
LAST-MODIFIED:20221031T101849Z
UID:17572-1669885200-1669910400@www.icorr.org
SUMMARY:THE WATER MANAGEMENT SOCIETY PRESENTS:  Water Quality IT'S ALL HANGING IN THE BALANCE?
DESCRIPTION:ONE DAY CONFERENCE\nCosla Conference Centre\, Edinburgh\, EH12 5BH\nThursday 1ST December 2022\nPROGRAMME:\n09:00 Registration & Refreshments \n09:45 Welcome & Introduction by Chair\nJonathan Waggott\, WMSoc Council member \n10:00 Remote water monitoring – A practical guide\nWarren Bradshaw\, Strategic Compliance Manager (Legionella) \n10:35 Microbiological methods – How to interpret and explain\nBjorn Nielsen\, ALS Global \n11:10 Coffee break \n11:45 NHS Scotland Assure – What is it and how does it work?\nIan Storrar\, Assistant Director Engineering & Assurance\, NHS Scotland Assure \n12:20 Scald Risk Assessment\nGeorge McCracken\, Head of Risk & Environment – Belfast NHS Trust \n13.00L UNCH \n14:00 Roundtable 1: Remote monitoring and testing methods\nWarren Bradshaw & Bjorn Nielsen\nModerators: Jemma Tennant & TBC \n14:45 Roundtable 2: Guidance and Compliance\nIan Storrar & George McCracken\nModerators: Dr Susanne Lee & TBC \n15:30 Summary & Wrap-Up\nJonathan Waggott\, WMSoc Council member \n16:00 Close & networking \n10% DISCOUNT AVAILABLE FOR NHS STAFF!\nTRADE STANDS AVAILABLE – SEE EVENT BOOKING FORM PDF FOR FULL DETAILS \nJOIN US FOR THE DAY AND EARN 6 CPD POINTS\nBook Your position now \n 
URL:https://www.icorr.org/event/the-water-management-society-presents-water-quality-its-all-hanging-in-the-balance/
LOCATION:19 Haymarket Yards\, Edinburgh EH12 5BH\, Edinburgh\, EH12 5BH\, United Kingdom
END:VEVENT
END:VCALENDAR