BEGIN:VCALENDAR
VERSION:2.0
PRODID:-//Institute of Corrosion - ECPv6.15.20//NONSGML v1.0//EN
CALSCALE:GREGORIAN
METHOD:PUBLISH
X-WR-CALNAME:Institute of Corrosion
X-ORIGINAL-URL:https://www.icorr.org
X-WR-CALDESC:Events for Institute of Corrosion
REFRESH-INTERVAL;VALUE=DURATION:PT1H
X-Robots-Tag:noindex
X-PUBLISHED-TTL:PT1H
BEGIN:VTIMEZONE
TZID:Europe/London
BEGIN:DAYLIGHT
TZOFFSETFROM:+0000
TZOFFSETTO:+0100
TZNAME:BST
DTSTART:20230326T010000
END:DAYLIGHT
BEGIN:STANDARD
TZOFFSETFROM:+0100
TZOFFSETTO:+0000
TZNAME:GMT
DTSTART:20231029T010000
END:STANDARD
BEGIN:DAYLIGHT
TZOFFSETFROM:+0000
TZOFFSETTO:+0100
TZNAME:BST
DTSTART:20240331T010000
END:DAYLIGHT
BEGIN:STANDARD
TZOFFSETFROM:+0100
TZOFFSETTO:+0000
TZNAME:GMT
DTSTART:20241027T010000
END:STANDARD
BEGIN:DAYLIGHT
TZOFFSETFROM:+0000
TZOFFSETTO:+0100
TZNAME:BST
DTSTART:20250330T010000
END:DAYLIGHT
BEGIN:STANDARD
TZOFFSETFROM:+0100
TZOFFSETTO:+0000
TZNAME:GMT
DTSTART:20251026T010000
END:STANDARD
END:VTIMEZONE
BEGIN:VEVENT
DTSTART;TZID=Europe/London:20240314T180000
DTEND;TZID=Europe/London:20240314T203000
DTSTAMP:20260420T065246
CREATED:20240305T101055Z
LAST-MODIFIED:20240307T134724Z
UID:22084-1710439200-1710448200@www.icorr.org
SUMMARY:London Branch Technical Presentation
DESCRIPTION:The President\, Stephen Tate\, will give a presentation on the Institute’s operations during the past year\, both in the UK and overseas\, including awards\, bursaries\, training activities\, etc\, and how these will play a part in the future of the Institute. \nThere will be welcoming drinks at 6.00 pm followed by the AGM at 6.15 and the talk at 6.30\, and after the President’s presentation there will be the opportunity to ask questions\, which will be followed by a buffet and refreshments.
URL:https://www.icorr.org/event/london-branch-technical-presentation-and-agm/
LOCATION:Lancaster hall Hotel\, 35 Craven Terrace\, London W2 3EL\, 35 Craven Terrace\, London\, W2 3EL\, United Kingdom
CATEGORIES:London Branch
END:VEVENT
END:VCALENDAR