BEGIN:VCALENDAR
VERSION:2.0
PRODID:-//Institute of Corrosion - ECPv6.15.20//NONSGML v1.0//EN
CALSCALE:GREGORIAN
METHOD:PUBLISH
X-WR-CALNAME:Institute of Corrosion
X-ORIGINAL-URL:https://www.icorr.org
X-WR-CALDESC:Events for Institute of Corrosion
REFRESH-INTERVAL;VALUE=DURATION:PT1H
X-Robots-Tag:noindex
X-PUBLISHED-TTL:PT1H
BEGIN:VTIMEZONE
TZID:Europe/London
BEGIN:DAYLIGHT
TZOFFSETFROM:+0000
TZOFFSETTO:+0100
TZNAME:BST
DTSTART:20230326T010000
END:DAYLIGHT
BEGIN:STANDARD
TZOFFSETFROM:+0100
TZOFFSETTO:+0000
TZNAME:GMT
DTSTART:20231029T010000
END:STANDARD
BEGIN:DAYLIGHT
TZOFFSETFROM:+0000
TZOFFSETTO:+0100
TZNAME:BST
DTSTART:20240331T010000
END:DAYLIGHT
BEGIN:STANDARD
TZOFFSETFROM:+0100
TZOFFSETTO:+0000
TZNAME:GMT
DTSTART:20241027T010000
END:STANDARD
BEGIN:DAYLIGHT
TZOFFSETFROM:+0000
TZOFFSETTO:+0100
TZNAME:BST
DTSTART:20250330T010000
END:DAYLIGHT
BEGIN:STANDARD
TZOFFSETFROM:+0100
TZOFFSETTO:+0000
TZNAME:GMT
DTSTART:20251026T010000
END:STANDARD
END:VTIMEZONE
BEGIN:VEVENT
DTSTART;TZID=Europe/London:20240321T113000
DTEND;TZID=Europe/London:20240321T160000
DTSTAMP:20260420T081914
CREATED:20240129T150219Z
LAST-MODIFIED:20240212T115731Z
UID:21882-1711020600-1711036800@www.icorr.org
SUMMARY:ICorr Wales & South-West Branch - Microbiologically Induced Corrosion – real world failures and how to prevent them
DESCRIPTION:Thursday 21st March 2024\, Start Time: 11:30am (UK Time) \nIn-Person Presentation only.  Note. Places are limited to 25 for the Lab Tour.  Any additional registrations will be contacted with regard to a repeat Event.   \nClick here to Register Download Flyer \nEvent is Free of Charge to attend.  \nMicrobiologically Induced Corrosion – real world failures and how to prevent them \n Speakers:  Sarah Bagnall\, R-TECH MaterialsGareth Williams\, ECHA Microbiology \n Event Programme:  \n11.30 – 12:00: Arrival / Networking / Refreshments12:00 – 12:10: Introductions / AGM12:10 – 12:40: Technical Presentation – Sarah Bagnall12:40 – 13:10: Technical Presentation – Gareth Williams13:10 – 13:20: Q&A13:20 – 14:00: Site Tour (PPE will be provided) \nThe Talk:  \nMicrobiologically Induced Corrosion – real world failures and how to prevent them \n Microbiologically Induced Corrosion (MIC) affects numerous industries and a wide range of materials. MIC is responsible for many incidents where failure has occurred shortly after commission often leaving the end user perplexed when inspection reports show the equipment to be defect free following manufacture/installation. The use of more exotic alloys has been a common rectification to the problem\, though MIC issues have still been encountered. The first presentation\, by Sarah Bagnall\, provides an insight into the mechanism of MIC and how the mechanism is identified\, the common triggers\, affected materials\, and a number of case studies from various industries. The second presentation\, by Gareth Williams\, provides some of the microbiological laboratory-based studies ECHA have conducted to investigate prevention strategies in specific Marine systems \nAdditional Information: \nRegistration information will be shared with our Branch volunteers to help facilitate the \nRegistration will close on Monday 18th March. \nFor Continuing Professional Development (CPD) or to join our Mailing List\, request by email to: swchair@icorr.org \nInstitute Professional Memberships are available at: https://www.icorr.org/grades-and-benefits-of-individual-membership-2/ \nFree Student Memberships are available at: https://www.icorr.org/free-student-membership/ [icorr.org] \n  \n			\n			\n				\n				\n				\n				\n			\n				\n				\n				\n				\n				\n				\n				\n				\n				\n				\n				\n			\n				\n				\n				\n				\n				Sarah is a materials engineer and Chartered Engineer specialising in failure analysis particularly for the petrochemical\, process and power generation industries. With over 600 failure investigations conducted\, Sarah has broad experience with a wide range of engineering components\, metallic and non-metallic materials\, and industries.  Sarah has extensive expertise in corrosion of a wide range of materials\, particularly for the chemical processing and petrochemical industries. \n			\n			\n				\n				\n				\n				\n				\n				\n				\n				\n				\n				\n			\n				\n				\n				\n				\n				Gareth is a PhD microbiologist and has been working at ECHA Microbiology since 2010. He provides consultancy for ECHA’s customers in the petroleum\, aviation\, marine and engineering industries in response to microbiological spoilage and corrosion incidents.  Gareth also supports and hosts many of ECHA’s training courses worldwide. Gareth is also active on technical committees\, including the Energy Institute Microbiology Committee\, IATA Technical Fuels Group\, ASTM D02 and E35\, and AMPP SC22 Biodeterioration.
URL:https://www.icorr.org/event/icorr-wales-south-west-branch-microbiologically-induced-corrosion-real-world-failures-and-how-to-prevent-them/
LOCATION:SA13 2PE\, R-TECH Materials\, Testing House\, Kenfig Industrial Estate\, Margam\,\, Port Talbot\, SA13 2PE\, United Kingdom
END:VEVENT
END:VCALENDAR