BEGIN:VCALENDAR
VERSION:2.0
PRODID:-//Institute of Corrosion - ECPv6.15.20//NONSGML v1.0//EN
CALSCALE:GREGORIAN
METHOD:PUBLISH
X-ORIGINAL-URL:https://www.icorr.org
X-WR-CALDESC:Events for Institute of Corrosion
REFRESH-INTERVAL;VALUE=DURATION:PT1H
X-Robots-Tag:noindex
X-PUBLISHED-TTL:PT1H
BEGIN:VTIMEZONE
TZID:Europe/London
BEGIN:DAYLIGHT
TZOFFSETFROM:+0000
TZOFFSETTO:+0100
TZNAME:BST
DTSTART:20240331T010000
END:DAYLIGHT
BEGIN:STANDARD
TZOFFSETFROM:+0100
TZOFFSETTO:+0000
TZNAME:GMT
DTSTART:20241027T010000
END:STANDARD
BEGIN:DAYLIGHT
TZOFFSETFROM:+0000
TZOFFSETTO:+0100
TZNAME:BST
DTSTART:20250330T010000
END:DAYLIGHT
BEGIN:STANDARD
TZOFFSETFROM:+0100
TZOFFSETTO:+0000
TZNAME:GMT
DTSTART:20251026T010000
END:STANDARD
BEGIN:DAYLIGHT
TZOFFSETFROM:+0000
TZOFFSETTO:+0100
TZNAME:BST
DTSTART:20260329T010000
END:DAYLIGHT
BEGIN:STANDARD
TZOFFSETFROM:+0100
TZOFFSETTO:+0000
TZNAME:GMT
DTSTART:20261025T010000
END:STANDARD
END:VTIMEZONE
BEGIN:VEVENT
DTSTART;TZID=Europe/London:20250619T173000
DTEND;TZID=Europe/London:20250619T203000
DTSTAMP:20260424T035255
CREATED:20250610T134446Z
LAST-MODIFIED:20250610T140244Z
UID:25564-1750354200-1750365000@www.icorr.org
SUMMARY:ICorr NE Branch & NEIMME Technical Evening
DESCRIPTION:Water\, water everywhere…. but is it safe to use?  \nPresented by Barry Turner A look at the global water situation; is there a water crisis and the availability of fresh water and its distribution. How pipelines help the distribution of fresh drinkable water and why internal coatings are important. \nDownload Information Leaflet
URL:https://www.icorr.org/event/icorr-ne-branch-neimme-technical-evening/
LOCATION:Neville Hall Westgate Road Newcastle upon Tyne NE1\, Westgate Road\, Newcastle Upon Tyne\, NE1 1SE
CATEGORIES:North East Branch
END:VEVENT
END:VCALENDAR