BEGIN:VCALENDAR
VERSION:2.0
PRODID:-//Institute of Corrosion - ECPv6.15.20//NONSGML v1.0//EN
CALSCALE:GREGORIAN
METHOD:PUBLISH
X-ORIGINAL-URL:https://www.icorr.org
X-WR-CALDESC:Events for Institute of Corrosion
REFRESH-INTERVAL;VALUE=DURATION:PT1H
X-Robots-Tag:noindex
X-PUBLISHED-TTL:PT1H
BEGIN:VTIMEZONE
TZID:Europe/London
BEGIN:DAYLIGHT
TZOFFSETFROM:+0000
TZOFFSETTO:+0100
TZNAME:BST
DTSTART:20210328T010000
END:DAYLIGHT
BEGIN:STANDARD
TZOFFSETFROM:+0100
TZOFFSETTO:+0000
TZNAME:GMT
DTSTART:20211031T010000
END:STANDARD
BEGIN:DAYLIGHT
TZOFFSETFROM:+0000
TZOFFSETTO:+0100
TZNAME:BST
DTSTART:20220327T010000
END:DAYLIGHT
BEGIN:STANDARD
TZOFFSETFROM:+0100
TZOFFSETTO:+0000
TZNAME:GMT
DTSTART:20221030T010000
END:STANDARD
BEGIN:DAYLIGHT
TZOFFSETFROM:+0000
TZOFFSETTO:+0100
TZNAME:BST
DTSTART:20230326T010000
END:DAYLIGHT
BEGIN:STANDARD
TZOFFSETFROM:+0100
TZOFFSETTO:+0000
TZNAME:GMT
DTSTART:20231029T010000
END:STANDARD
END:VTIMEZONE
BEGIN:VEVENT
DTSTART;TZID=Europe/London:20221013T180000
DTEND;TZID=Europe/London:20221013T200000
DTSTAMP:20260423T080420
CREATED:20220928T124156Z
LAST-MODIFIED:20220928T124420Z
UID:17262-1665684000-1665691200@www.icorr.org
SUMMARY:ICorr London Branch and Young ICorr Branch Meeting
DESCRIPTION:The ICorr London branch and Young ICorr invite you to join new and experienced ICorr members for our London branch meeting at 6 pm\, Thursday 13th October\, 2022. \nCorrosion Protection considerations for offshore wind foundations Dr. Anthony Setiadi\, FICorr\nWood Thilsted \nMeeting Schedule \n18:00 – Arrive/Welcome drinks\n18:30 – Technical Talk\n19:15 – Q&A\n19:30 – Introduction to YICorr\n19:40 – Refreshments & Networking 20:00 – Social Event \n\nNetwork with like-minded corrosion professionals\nTechnical talk by experienced corrosion engineer\nFree snacks and refreshments\nYICorr social event following the meeting\n\nRegistration Link  \nVenue: \nLancaster Hall Hotel\n35 Craven Terrace\nLondon\nW2 3EL \nNearest Tube / Train Station:\nPaddington Station (approx 5 mins walk) \n  \n 
URL:https://www.icorr.org/event/icorr-london-branch-and-young-icorr-branch-meeting/
LOCATION:W2 3EL\, 35 Craven Terrace\, London\, W2 3EL\, United Kingdom
CATEGORIES:London Branch
END:VEVENT
END:VCALENDAR