BEGIN:VCALENDAR
VERSION:2.0
PRODID:-//Institute of Corrosion - ECPv6.15.20//NONSGML v1.0//EN
CALSCALE:GREGORIAN
METHOD:PUBLISH
X-ORIGINAL-URL:https://www.icorr.org
X-WR-CALDESC:Events for Institute of Corrosion
REFRESH-INTERVAL;VALUE=DURATION:PT1H
X-Robots-Tag:noindex
X-PUBLISHED-TTL:PT1H
BEGIN:VTIMEZONE
TZID:Europe/London
BEGIN:DAYLIGHT
TZOFFSETFROM:+0000
TZOFFSETTO:+0100
TZNAME:BST
DTSTART:20170326T010000
END:DAYLIGHT
BEGIN:STANDARD
TZOFFSETFROM:+0100
TZOFFSETTO:+0000
TZNAME:GMT
DTSTART:20171029T010000
END:STANDARD
BEGIN:DAYLIGHT
TZOFFSETFROM:+0000
TZOFFSETTO:+0100
TZNAME:BST
DTSTART:20180325T010000
END:DAYLIGHT
BEGIN:STANDARD
TZOFFSETFROM:+0100
TZOFFSETTO:+0000
TZNAME:GMT
DTSTART:20181028T010000
END:STANDARD
BEGIN:DAYLIGHT
TZOFFSETFROM:+0000
TZOFFSETTO:+0100
TZNAME:BST
DTSTART:20190331T010000
END:DAYLIGHT
BEGIN:STANDARD
TZOFFSETFROM:+0100
TZOFFSETTO:+0000
TZNAME:GMT
DTSTART:20191027T010000
END:STANDARD
END:VTIMEZONE
BEGIN:VEVENT
DTSTART;TZID=Europe/London:20180208T180000
DTEND;TZID=Europe/London:20180208T203000
DTSTAMP:20260421T055421
CREATED:20171123T211505Z
LAST-MODIFIED:20180124T225518Z
UID:2950-1518112800-1518121800@www.icorr.org
SUMMARY:London Branch February Meeting
DESCRIPTION:The Use of EIS as a Predictive Tool for Coating Lifetime \n By; Dustin Traylor – Axalta Global Product Manager and Dr Stephen Drew – Axalta EMEA Coatings Leader \nThis presentation will evaluate the use of Electro Chemical Impedance Spectroscopy (EIC) to assess the adhesive strength of FBE to the steel of transmission pipe and its use as a predictive tool to determine the lifetime of FBE coating systems \nThe technique has now been adopted by Aramco and Chevron and gaining credibility as a useful tool in the pipeline market.
URL:https://www.icorr.org/event/london-branch-february-meeting/
LOCATION:Imperial College\, Skempton Building\, London SW7 2BB\, Skempton Building\, London\, SW7 2BB
CATEGORIES:London Branch
END:VEVENT
BEGIN:VEVENT
DTSTART;TZID=Europe/London:20180212T150000
DTEND;TZID=Europe/London:20180212T173000
DTSTAMP:20260421T055421
CREATED:20180124T231236Z
LAST-MODIFIED:20180125T171054Z
UID:3192-1518447600-1518456600@www.icorr.org
SUMMARY:North West Branch Joint Meeting with OCCA
DESCRIPTION:For more than sixty five years Elcometer has been a world leader in the design\, manufacture and supply of inspection equipment to the coatings\, concrete and metal detection industry. \nEver since the first Elcometer gauge was manufactured in 1947\, their philosophy has been to provide industry leading\, innovative\, high quality products; supported by a best-in-class customer experience at a competitive price. By concentrating on these core values\, Elcometer has grown into a global network with representation in over 170 countries. \nWith a range of products specifically developed to meet the needs of the coatings industry\, Elcometer is well positioned to provide customers with the solution to their inspection requirements – whatever and wherever they might be. \nCome along and visit the Elcometer facility on Monday 12th Feb.  The tour is planned for 3pm- 5.30pm. \nFollowing the visit we will adjourn to the nearby Frankie & Benny’s for a meal and refreshments. \n  \nTo register or for more information contact:  brenda.peters@analysis-scientific.co.uk 01706 871700 or admin@icorr.org \n 
URL:https://www.icorr.org/event/north-west-branch-joint-meeting-with-occa/
LOCATION:Elcometer Limited UK Office\, Edge Lane\, Manchester\, M43 6BU\, United Kingdom
CATEGORIES:North West Branch
END:VEVENT
BEGIN:VEVENT
DTSTART;TZID=Europe/London:20180227T180000
DTEND;TZID=Europe/London:20180227T210000
DTSTAMP:20260421T055421
CREATED:20170710T124645Z
LAST-MODIFIED:20170710T130639Z
UID:2225-1519754400-1519765200@www.icorr.org
SUMMARY:Aberdeen Branch Meeting
DESCRIPTION:Speaker: Emma Perfect of LUX Assure\n\nTopic: Function-related Dosage of Corrosion Inhibitors; The Development of An on-site\, Operator Deployable Technology \nPresentation to start at 6.30pm \n 
URL:https://www.icorr.org/event/aberdeen-branch-joint-meeting-with-twi-3/
LOCATION:Palm Court Hotel\, 81 Seaford Road\, Aberdeen\, AB15 7YX\, United Kingdom
CATEGORIES:Aberdeen Branch
ATTACH;FMTTYPE=image/jpeg:https://www.icorr.org/wp-content/uploads/2017/07/palm-court-hotel-aberdeen_040920151159019081-2.jpg
END:VEVENT
END:VCALENDAR