BEGIN:VCALENDAR
VERSION:2.0
PRODID:-//Institute of Corrosion - ECPv6.15.20//NONSGML v1.0//EN
CALSCALE:GREGORIAN
METHOD:PUBLISH
X-ORIGINAL-URL:https://www.icorr.org
X-WR-CALDESC:Events for Institute of Corrosion
REFRESH-INTERVAL;VALUE=DURATION:PT1H
X-Robots-Tag:noindex
X-PUBLISHED-TTL:PT1H
BEGIN:VTIMEZONE
TZID:Europe/London
BEGIN:DAYLIGHT
TZOFFSETFROM:+0000
TZOFFSETTO:+0100
TZNAME:BST
DTSTART:20170326T010000
END:DAYLIGHT
BEGIN:STANDARD
TZOFFSETFROM:+0100
TZOFFSETTO:+0000
TZNAME:GMT
DTSTART:20171029T010000
END:STANDARD
BEGIN:DAYLIGHT
TZOFFSETFROM:+0000
TZOFFSETTO:+0100
TZNAME:BST
DTSTART:20180325T010000
END:DAYLIGHT
BEGIN:STANDARD
TZOFFSETFROM:+0100
TZOFFSETTO:+0000
TZNAME:GMT
DTSTART:20181028T010000
END:STANDARD
BEGIN:DAYLIGHT
TZOFFSETFROM:+0000
TZOFFSETTO:+0100
TZNAME:BST
DTSTART:20190331T010000
END:DAYLIGHT
BEGIN:STANDARD
TZOFFSETFROM:+0100
TZOFFSETTO:+0000
TZNAME:GMT
DTSTART:20191027T010000
END:STANDARD
END:VTIMEZONE
BEGIN:VEVENT
DTSTART;VALUE=DATE:20180515
DTEND;VALUE=DATE:20180516
DTSTAMP:20260421T042953
CREATED:20170524T145555Z
LAST-MODIFIED:20170524T145555Z
UID:774-1526342400-1526428799@www.icorr.org
SUMMARY:CEOCOR 2018 International Congress and Technical Exhibition
DESCRIPTION:We are pleased to announce that the UK Institute of Corrosion will host the 2018 CEOCOR Congress in Stratford-upon-Avon. Stratford-upon-Avon. \nFor further details\, registration please click on www.ceocorr2018.com
URL:https://www.icorr.org/event/ceocor-2018-international-congress-and-technical-exhibition/
LOCATION:Crown Plaza Hotel\, Crowne Plaza Hotel\, Bridgefoot\, Stratford-Upon-Avon\, CV37 6YR\,
ATTACH;FMTTYPE=image/jpeg:https://www.icorr.org/wp-content/uploads/2017/05/Stratford-upon-avon.jpg
END:VEVENT
BEGIN:VEVENT
DTSTART;TZID=Europe/London:20180521T080000
DTEND;TZID=Europe/London:20180525T170000
DTSTAMP:20260421T042953
CREATED:20180427T132335Z
LAST-MODIFIED:20211208T074123Z
UID:3559-1526889600-1527267600@www.icorr.org
SUMMARY:ICorr Insulation and Fireproofing Inspector Course
DESCRIPTION:Please click link below for details: \nhttps://trainingsolutions.imeche.org/training/coating-inspection/international-icorr-training
URL:https://www.icorr.org/event/icorr-insulation-and-fireproofing-inspector-3/
LOCATION:Chennai\, India\, India
CATEGORIES:ICorr International Training Courses
END:VEVENT
BEGIN:VEVENT
DTSTART;TZID=Europe/London:20180529T180000
DTEND;TZID=Europe/London:20180529T210000
DTSTAMP:20260421T042953
CREATED:20170710T130419Z
LAST-MODIFIED:20170728T131125Z
UID:2233-1527616800-1527627600@www.icorr.org
SUMMARY:Aberdeen Branch Joint meeting with NACE; Industrial Visit
DESCRIPTION:Sonomatic – Industrial Visit to Sonomatic – Presentations and Showcasing Kit and Facilities on Overcoming and Identifying Corrosion / Integrity Challenges \nVisit to start from 6.30pm
URL:https://www.icorr.org/event/aberdeen-branch-joint-meeting-with-twi-3-2-2-2/
LOCATION:The Core Aberdeen\, The Core Industrial Estate\, Berryhill Crescent\, Murcar\,\, Aberdeen\, AB23 8AN\, United Kingdom
CATEGORIES:Aberdeen Branch
ATTACH;FMTTYPE=image/png:https://www.icorr.org/wp-content/uploads/2017/07/images-2.png
END:VEVENT
END:VCALENDAR