BEGIN:VCALENDAR
VERSION:2.0
PRODID:-//Institute of Corrosion - ECPv6.15.20//NONSGML v1.0//EN
CALSCALE:GREGORIAN
METHOD:PUBLISH
X-ORIGINAL-URL:https://www.icorr.org
X-WR-CALDESC:Events for Institute of Corrosion
REFRESH-INTERVAL;VALUE=DURATION:PT1H
X-Robots-Tag:noindex
X-PUBLISHED-TTL:PT1H
BEGIN:VTIMEZONE
TZID:Europe/London
BEGIN:DAYLIGHT
TZOFFSETFROM:+0000
TZOFFSETTO:+0100
TZNAME:BST
DTSTART:20180325T010000
END:DAYLIGHT
BEGIN:STANDARD
TZOFFSETFROM:+0100
TZOFFSETTO:+0000
TZNAME:GMT
DTSTART:20181028T010000
END:STANDARD
BEGIN:DAYLIGHT
TZOFFSETFROM:+0000
TZOFFSETTO:+0100
TZNAME:BST
DTSTART:20190331T010000
END:DAYLIGHT
BEGIN:STANDARD
TZOFFSETFROM:+0100
TZOFFSETTO:+0000
TZNAME:GMT
DTSTART:20191027T010000
END:STANDARD
BEGIN:DAYLIGHT
TZOFFSETFROM:+0000
TZOFFSETTO:+0100
TZNAME:BST
DTSTART:20200329T010000
END:DAYLIGHT
BEGIN:STANDARD
TZOFFSETFROM:+0100
TZOFFSETTO:+0000
TZNAME:GMT
DTSTART:20201025T010000
END:STANDARD
END:VTIMEZONE
BEGIN:VEVENT
DTSTART;VALUE=DATE:20190605
DTEND;VALUE=DATE:20190607
DTSTAMP:20260423T134814
CREATED:20190427T010036Z
LAST-MODIFIED:20211208T073716Z
UID:5620-1559692800-1559865599@www.icorr.org
SUMMARY:The 2019 PFPNET Conference
DESCRIPTION:The PFPNet 2019 Conference Agenda\nPlease click link below for details agenda: \nThe PFPNet Conference Agenda 2019
URL:https://www.icorr.org/event/the-2019-pfpnet-conference/
LOCATION:Manchester Conference Centre\, Sackville Street\, Manchester\, M1 3BB\, United Kingdom
END:VEVENT
BEGIN:VEVENT
DTSTART;TZID=Europe/London:20190613T130000
DTEND;TZID=Europe/London:20190613T210000
DTSTAMP:20260423T134814
CREATED:20190427T002140Z
LAST-MODIFIED:20210518T090221Z
UID:5614-1560430800-1560459600@www.icorr.org
SUMMARY:Institute of Corrosion North West Branch-50th Annual General Meeting and Golf Day (with Prizes)
DESCRIPTION:The Annual General Meeting is on: \nDate:               Thursday 13 June 2019. \nTime:               6:00 pm \nLocation:         Heyrose Golf Club Tabley Cheshire WA16 0HZ \nYou are welcome to bring partners\, friends and colleagues\, whether they are ICorr members or not to the golf day\, buffet and Annual General Meeting.  Teams of golfers are also welcome. \nGolf. \nThe competition is Stableford – Full Handicap.  A series of tee times have been booked for groups of 4 people from 1:00 pm on wards. \nThe cost for the golf  £25.25 per round and is payable on the day\, It includes coffee and a bacon roll on arrival. \nBuffet. \nThere will be a buffet available at a cost of £10 per person\, which is available to both golfers and non-golfers. The buffet will be available from 5:30 pm \nAnnual General Meeting \nThe Annual General Meeting will start at 6:00 pm and is the ideal opportunity to meet other Institute of Corrosion members in a relaxing social atmosphere.  It is also a good time to become more involved with Institute of Corrosion and the North West branch activities and nominations for the 2019 North West Branch Committee are always welcome. \nThe committee nominations are: \nChairman:                   Greg Brown \nDeputy Chairman:       TBA \nTreasurer:                    Chris Atkins \nSecretary:                    Brenda Peters \nCommittee Members: John Worsley\, Paul Lambert\, John Fletcher\, Jane Lomas\, Barry Windsor\, Nick Thoday\, Neil Fairweather\, Ken Dykes and Paul Russell\, Andy Bradley\, Michael Leahy \nTo enable planning of the Annual General Meeting\, golf and buffet\, registration is accepted to be made before Wednesday 5th June 2019\, please click below for registration form: \n50th AGM North West Branch and golf day (004) \nIf you have any questions\, please contact: \nBrenda Peters at : +441706 871700 or alternatively email to brenda.peters@analysis-scientific.co.uk
URL:https://www.icorr.org/event/institute-of-corrosion-north-west-branch-49th-annual-general-meeting-and-golf-day-with-prizes/
LOCATION:Heyrose Golf Club Tabley\, Cheshire\, WA16 0HZ\, United Kingdom
CATEGORIES:North West Branch
END:VEVENT
BEGIN:VEVENT
DTSTART;TZID=Europe/London:20190617T090000
DTEND;TZID=Europe/London:20190621T170000
DTSTAMP:20260423T134814
CREATED:20190405T093339Z
LAST-MODIFIED:20211119T034337Z
UID:5488-1560762000-1561136400@www.icorr.org
SUMMARY:Cathodic Protection Technician – Marine Metallic Structures Level 2 Course
DESCRIPTION:
URL:https://www.icorr.org/event/cathodic-protection-technician-reinforced-concrete-structure-level-2/
LOCATION:Port of Dover\, United Kingdom
END:VEVENT
BEGIN:VEVENT
DTSTART;TZID=Europe/London:20190624T090000
DTEND;TZID=Europe/London:20190628T170000
DTSTAMP:20260423T134814
CREATED:20190405T091901Z
LAST-MODIFIED:20190405T091951Z
UID:5478-1561366800-1561741200@www.icorr.org
SUMMARY:Senior Cathodic Protection Technician – On-Land Metallic Structures Level 3 Course
DESCRIPTION:
URL:https://www.icorr.org/event/senior-cathodic-protection-technician-on-land-metallic-structures-level-3/
LOCATION:ARL Training Centre\, 4 Europa View\, Sheffield Business Park\, S9 1XH\, United Kingdom
END:VEVENT
END:VCALENDAR