BEGIN:VCALENDAR
VERSION:2.0
PRODID:-//Institute of Corrosion - ECPv6.15.20//NONSGML v1.0//EN
CALSCALE:GREGORIAN
METHOD:PUBLISH
X-ORIGINAL-URL:https://www.icorr.org
X-WR-CALDESC:Events for Institute of Corrosion
REFRESH-INTERVAL;VALUE=DURATION:PT1H
X-Robots-Tag:noindex
X-PUBLISHED-TTL:PT1H
BEGIN:VTIMEZONE
TZID:Europe/London
BEGIN:DAYLIGHT
TZOFFSETFROM:+0000
TZOFFSETTO:+0100
TZNAME:BST
DTSTART:20220327T010000
END:DAYLIGHT
BEGIN:STANDARD
TZOFFSETFROM:+0100
TZOFFSETTO:+0000
TZNAME:GMT
DTSTART:20221030T010000
END:STANDARD
BEGIN:DAYLIGHT
TZOFFSETFROM:+0000
TZOFFSETTO:+0100
TZNAME:BST
DTSTART:20230326T010000
END:DAYLIGHT
BEGIN:STANDARD
TZOFFSETFROM:+0100
TZOFFSETTO:+0000
TZNAME:GMT
DTSTART:20231029T010000
END:STANDARD
BEGIN:DAYLIGHT
TZOFFSETFROM:+0000
TZOFFSETTO:+0100
TZNAME:BST
DTSTART:20240331T010000
END:DAYLIGHT
BEGIN:STANDARD
TZOFFSETFROM:+0100
TZOFFSETTO:+0000
TZNAME:GMT
DTSTART:20241027T010000
END:STANDARD
END:VTIMEZONE
BEGIN:VEVENT
DTSTART;VALUE=DATE:20230510
DTEND;VALUE=DATE:20230511
DTSTAMP:20260421T115403
CREATED:20230120T151648Z
LAST-MODIFIED:20230120T152156Z
UID:18259-1683676800-1683676800@www.icorr.org
SUMMARY:HQ Event Northampton – 10 May – Council Meeting (In-Person)
DESCRIPTION:
URL:https://www.icorr.org/event/hq-event-northampton-10-may-council-meeting-in-person/
END:VEVENT
BEGIN:VEVENT
DTSTART;TZID=Europe/London:20230511T180000
DTEND;TZID=Europe/London:20230511T200000
DTSTAMP:20260421T115403
CREATED:20230417T135710Z
LAST-MODIFIED:20230417T135755Z
UID:19022-1683828000-1683835200@www.icorr.org
SUMMARY:ICorr London Branch - Regents Canal Boat Trip
DESCRIPTION:As a close to our 2022-23 season come and join the ICorr London Branch for a canal trip\, sponsored by International Paints\, from Paddington to Camden via Little Venice and return. Join your peers for networking and fun while we wind our way slowly through London. \nThe Route \nStarting at the pick up point in Paddington we will cruise to Little Venice before heading to Camden taking in many varied views along the canal. \nAs we pass through the grounds of London Zoo\, look out for the African wild hunting dogs known as painted wolves\, the pack can often be seen as we pass their canal-side enclosure\, as well as their neighbours the African warthogs. On the opposite side\, you can see the newly reimagined imposing structure of Monkey Valley featuring black and white Colobus monkeys. You can see expansive landscaped gardens of stately mansion houses and classic modern villas contrasted with industrial buildings\, a power station and historical architecture including ornamental iron bridges such as the pillared Macclesfield ‘blow up’ bridge. \nFrom modern-day urban graffiti\, unique architecture\, and industrial heritage to landscaped gardens and wildlife\, the route gives an insight into the unique mix that forms this part of London. \nThe details  \nThe pick-up point for the trip is :- Merchants Square\,\nPaddington Post Code:- W2 1AS. \nWe sail at 18:00 hours so please arrive between 17:45 and 18:00. Food and drinks will be provided (Ensure you let us know dietary requirements on the registration form) The trip will be two hours returning to Paddington at 20:00 hours. \nRSVP \nIf you would like to attend please fill out the registration form (Invite is for you and one other 18 years and over) at: – https://forms.office.com/Pages/ResponsePage.aspx?id=DQSIkWdsW0yxEjajBLZtrQA AAAAAAAAAAAMAAIZlLcBUODJMSVU4S1FIMlhOQ0pVQzJJOElFTEcyWS4u \nDownload Information Leaflet \n 
URL:https://www.icorr.org/event/icorr-london-branch-regents-canal-boat-trip/
LOCATION:W2 1AS\, Merchants Square\, Paddington\, W2 1AS\, United Kingdom
CATEGORIES:London Branch
END:VEVENT
BEGIN:VEVENT
DTSTART;TZID=Europe/London:20230515T120000
DTEND;TZID=Europe/London:20230519T130000
DTSTAMP:20260421T115403
CREATED:20230512T095225Z
LAST-MODIFIED:20230512T101603Z
UID:19250-1684152000-1684501200@www.icorr.org
SUMMARY:2023 MCF / ICorr Aberdeen Webinar Week
DESCRIPTION:A JOINT MCF / ICORR ABERDEEN EVENT \nMonday 15th May to Friday 19th May 2023 From: 12noon to 1pm each day\nRegister via the MCF website:\nhttps://marinecorrosionforum.co.uk/attend\nThe Webinars are Free of Charge to attend. \nTHEME: CORROSION UNDER INSULATION.\n \n\nKeep it Dry\, CUI; by Andrew Shaw [Aerogel]\nMonday\, 15th May 2023\, 12:00-13:00 [UK time]:\nPreventing the hidden Menace – How to stop CUI in its tracks; by Henry Smith [Belzona]\nTuesday\, 16th May 2023\, 12:00-13:00 [UK time]:\nCUI Monitoring & Management using novel technologies – an end-user’s perspective; by Philip Enegela [INEOS]\nWednesday\, 17thMay 2023\, 12:00-13:00 [UK time]:\nCUI Risk Monitoring and Case Studies; by Prafull Sharma [Corrosion RADAR] Thursday\,\n18th May 2023\, 12:00-13:00 [UK time]:\nStatistical Analysis of Inspection Data for equipment in corrosive service; by Mark Stone [IMRANDD].\nFriday\, 19th May 2023\, 12:00-13:00 [UK time]:\n\nAdditional Information: \n• Registration for this event may close hours before the start.\n• Registration information will be shared with our Branch volunteers to help facilitate the event.\n• For any additional queries / information; please email: info@marinecorrosionforum.com \nFor Continuing Professional Development (CPD) or to join our Mailing List\, request by email to: ICorrabz@gmail.com \nDownload Information Leaflet
URL:https://www.icorr.org/event/2023-mcf-icorr-aberdeen-webinar-week/
CATEGORIES:Aberdeen Branch
END:VEVENT
BEGIN:VEVENT
DTSTART;TZID=Europe/London:20230530T180000
DTEND;TZID=Europe/London:20230530T200000
DTSTAMP:20260421T115403
CREATED:20230512T095743Z
LAST-MODIFIED:20230515T105956Z
UID:19252-1685469600-1685476800@www.icorr.org
SUMMARY:ICORR ABERDEEN BRANCH JOINT MEETING WITH AMPP
DESCRIPTION:Tuesday 30th May 2023\, Start Time: 18:00 (UK Time) \nHybrid Event (in-person & online) at:\nThe Palm Court Hotel\, 81 Seafield Road\, Aberdeen\, AB15 7YX \nFor Zoom Registration : Event is Free of Charge to attend. \nMaintenance and Repair Solutions for Damaged or Aged \nDownload Information Leaflet
URL:https://www.icorr.org/event/icorr-aberdeen-branch-joint-meeting-with-ampp/
LOCATION:The Palm Court Hotel\, 81 Seafield Road\, Aberdeen\, AB15 7YX\, United Kingdom
CATEGORIES:Aberdeen Branch
END:VEVENT
END:VCALENDAR