BEGIN:VCALENDAR
VERSION:2.0
PRODID:-//Institute of Corrosion - ECPv6.15.20//NONSGML v1.0//EN
CALSCALE:GREGORIAN
METHOD:PUBLISH
X-WR-CALNAME:Institute of Corrosion
X-ORIGINAL-URL:https://www.icorr.org
X-WR-CALDESC:Events for Institute of Corrosion
REFRESH-INTERVAL;VALUE=DURATION:PT1H
X-Robots-Tag:noindex
X-PUBLISHED-TTL:PT1H
BEGIN:VTIMEZONE
TZID:Europe/London
BEGIN:DAYLIGHT
TZOFFSETFROM:+0000
TZOFFSETTO:+0100
TZNAME:BST
DTSTART:20220327T010000
END:DAYLIGHT
BEGIN:STANDARD
TZOFFSETFROM:+0100
TZOFFSETTO:+0000
TZNAME:GMT
DTSTART:20221030T010000
END:STANDARD
BEGIN:DAYLIGHT
TZOFFSETFROM:+0000
TZOFFSETTO:+0100
TZNAME:BST
DTSTART:20230326T010000
END:DAYLIGHT
BEGIN:STANDARD
TZOFFSETFROM:+0100
TZOFFSETTO:+0000
TZNAME:GMT
DTSTART:20231029T010000
END:STANDARD
BEGIN:DAYLIGHT
TZOFFSETFROM:+0000
TZOFFSETTO:+0100
TZNAME:BST
DTSTART:20240331T010000
END:DAYLIGHT
BEGIN:STANDARD
TZOFFSETFROM:+0100
TZOFFSETTO:+0000
TZNAME:GMT
DTSTART:20241027T010000
END:STANDARD
END:VTIMEZONE
BEGIN:VEVENT
DTSTART;TZID=Europe/London:20231004T080000
DTEND;TZID=Europe/London:20231005T170000
DTSTAMP:20260420T095559
CREATED:20230731T105225Z
LAST-MODIFIED:20230927T130103Z
UID:20414-1696406400-1696525200@www.icorr.org
SUMMARY:Floating Offshore Wind Expo 2023 [Conference & Exhibition]
DESCRIPTION:Floating Offshore Wind Expo 2023 [Conference & Exhibition] \nRenewableUK and Scottish Renewables are pleased to announce Floating Offshore Wind will be back again on 4-5 October 23 at the P&J Live in Aberdeen.FOW23 is the meeting place for all the current and future players in the global floating wind industry. Providing an unrivalled opportunity to meet and network with all the key players as well as discuss the key technical challenges and solutions surrounding the industrialisation and commercialisation of floating wind. \nConference & Exhibition Host:RenewableUK & Scottish renewables \nDownload event flyer
URL:https://www.icorr.org/event/floating-offshore-wind-expo-2023-conference-exhibition/
CATEGORIES:Aberdeen Branch
END:VEVENT
BEGIN:VEVENT
DTSTART;TZID=Europe/London:20231011T123000
DTEND;TZID=Europe/London:20231011T133000
DTSTAMP:20260420T095559
CREATED:20230925T144552Z
LAST-MODIFIED:20230925T144643Z
UID:21045-1697027400-1697031000@www.icorr.org
SUMMARY:North West Branch - Reinforced Autoclaved Aerated Concrete (RAAC)
DESCRIPTION:Date:                                        Wednesday 11 October 2023\nTime:                                        12.30 – 13:30\nLocation:                                  ONLINE EVENT \nReinforced Autoclaved Aerated Concrete (RAAC) has been in the news recently. Chris Atkins will provide an introduction to the material\, what the problems are and the interesting approach to corrosion protection included. Chris is a Fellow of the Institute of Corrosion and a member of the Institution of Structural Engineers’ RAAC study group\, and a member of the Construction Leadership Council’s RAAC group. \nPlease follow the link to register in advance for this online event: \nICorr NW Branch RAAC Talk \nIf you have any queries\, please contact Greg Brown\, NW Chair: greg.brown@mottmac.com Tel: 0161 9264554
URL:https://www.icorr.org/event/north-west-branch-reinforced-autoclaved-aerated-concrete-raac/
CATEGORIES:North West Branch
END:VEVENT
BEGIN:VEVENT
DTSTART;TZID=Europe/London:20231012T080000
DTEND;TZID=Europe/London:20231012T170000
DTSTAMP:20260420T095559
CREATED:20230124T114016Z
LAST-MODIFIED:20230124T114016Z
UID:18312-1697097600-1697130000@www.icorr.org
SUMMARY:Increasing the use of sensor technology to monitor coating performance
DESCRIPTION:Sahinah Group\nSimon Daly\nIncreasing the use of sensor technology to monitor
URL:https://www.icorr.org/event/increasing-the-use-of-sensor-technology-to-monitor-coating-performance/
CATEGORIES:London Branch
END:VEVENT
BEGIN:VEVENT
DTSTART;TZID=Europe/London:20231023T080000
DTEND;TZID=Europe/London:20231027T170000
DTSTAMP:20260420T095559
CREATED:20230120T151859Z
LAST-MODIFIED:20230120T151859Z
UID:18272-1698048000-1698426000@www.icorr.org
SUMMARY:HQ Event Northampton - 23-27 October – MIC Extended Course
DESCRIPTION:
URL:https://www.icorr.org/event/hq-event-northampton-23-27-october-mic-extended-course/
END:VEVENT
BEGIN:VEVENT
DTSTART;TZID=Europe/London:20231031T080000
DTEND;TZID=Europe/London:20231031T170000
DTSTAMP:20260420T095559
CREATED:20230731T105313Z
LAST-MODIFIED:20230731T105313Z
UID:20416-1698739200-1698771600@www.icorr.org
SUMMARY:Routine Monitoring to combat Microbiological Issues in Oilfield Process Systems – Understand the Option for Better Visibility.
DESCRIPTION:Synopsis:\nEven after over 35 years of practical field experience and routine monitoring in the endeavour to effectively manage microbiological proliferation and control microbiologically influenced corrosion (MIC)\, failures still lead to unplanned shutdowns\, repair and replacement costs. Over the last decades\, a suite of microbiological and molecular methods has become available to the oil and gas industry to gauge the adverse effect of microbes in oil and gas installations.  Extensive effort has been made to understand and act accordingly on the output of these different techniques and interpret results gained from these analyses to best effect.  For example\, data from qPCR are used routinely alongside the traditional culture-based techniques\, such as MPN (Most probable number) counts as a monitoring technique aiding in understanding the status of the offshore system and guiding the action required to be taken\, whilst next generation sequencing (NGS) remains a method used for more in-depth testing\, such as in failure investigations.  \nIn this talk we will be reviewing the current status quo of monitoring techniques\, looking at the different information supplied by a range of methods available – what can we conclude from MPN data versus qPCR data\, what different outputs can we expect when using different sequencing platforms (Illumina MiSeq versus Nanopore MinION). We will also be looking at what are the most common monitoring practices on hand in some case studies. \nICorr Technical Event\n(Evening Event)  \nCompany: Intertek \nSpeaker: Dr. Heike Hoffmann
URL:https://www.icorr.org/event/routine-monitoring-to-combat-microbiological-issues-in-oilfield-process-systems-understand-the-option-for-better-visibility/
CATEGORIES:Aberdeen Branch
END:VEVENT
END:VCALENDAR