BEGIN:VCALENDAR
VERSION:2.0
PRODID:-//Institute of Corrosion - ECPv6.15.20//NONSGML v1.0//EN
CALSCALE:GREGORIAN
METHOD:PUBLISH
X-WR-CALNAME:Institute of Corrosion
X-ORIGINAL-URL:https://www.icorr.org
X-WR-CALDESC:Events for Institute of Corrosion
REFRESH-INTERVAL;VALUE=DURATION:PT1H
X-Robots-Tag:noindex
X-PUBLISHED-TTL:PT1H
BEGIN:VTIMEZONE
TZID:Europe/London
BEGIN:DAYLIGHT
TZOFFSETFROM:+0000
TZOFFSETTO:+0100
TZNAME:BST
DTSTART:20230326T010000
END:DAYLIGHT
BEGIN:STANDARD
TZOFFSETFROM:+0100
TZOFFSETTO:+0000
TZNAME:GMT
DTSTART:20231029T010000
END:STANDARD
BEGIN:DAYLIGHT
TZOFFSETFROM:+0000
TZOFFSETTO:+0100
TZNAME:BST
DTSTART:20240331T010000
END:DAYLIGHT
BEGIN:STANDARD
TZOFFSETFROM:+0100
TZOFFSETTO:+0000
TZNAME:GMT
DTSTART:20241027T010000
END:STANDARD
BEGIN:DAYLIGHT
TZOFFSETFROM:+0000
TZOFFSETTO:+0100
TZNAME:BST
DTSTART:20250330T010000
END:DAYLIGHT
BEGIN:STANDARD
TZOFFSETFROM:+0100
TZOFFSETTO:+0000
TZNAME:GMT
DTSTART:20251026T010000
END:STANDARD
END:VTIMEZONE
BEGIN:VEVENT
DTSTART;TZID=Europe/London:20241113T120000
DTEND;TZID=Europe/London:20241113T170000
DTSTAMP:20260423T111058
CREATED:20240920T144347Z
LAST-MODIFIED:20241018T094059Z
UID:23627-1731499200-1731517200@www.icorr.org
SUMMARY:ICorr AGM 2024
DESCRIPTION:An ‘In-person’ Event at: Neville Hall (Neville Hall Westgate Road\, Newcastle Upon Tyne NE1 1SE- Sat. Nav.).13th November 2024With associated “Offshore Wind Technical Program” \nEvent with Lunch is Free of Charge to attend. \nEvening: Drinks reception\, gala dinner and live jazz band (limited places) \nDownload Technical Program \nDownload information flyer
URL:https://www.icorr.org/event/icorr-agm-2024/
LOCATION:Neville Hall\, Westgate Road\, Newcastle Upon Tyne\, NE1 1SE\, United Kingdom
END:VEVENT
BEGIN:VEVENT
DTSTART;TZID=Europe/London:20240425T173000
DTEND;TZID=Europe/London:20240425T200000
DTSTAMP:20260423T111058
CREATED:20240416T153651Z
LAST-MODIFIED:20240416T153723Z
UID:22214-1714066200-1714075200@www.icorr.org
SUMMARY:ICorr NE Branch and NEIMME joint event
DESCRIPTION:  \n“Recent changes to High Voltage Porosity Testing Standards” Followed by an equipment demonstration. Come and join us for an informative evening networking with peers from the corrosion industry. \nRSVP: nechair@icorr.org \nEvent Programme (free to members and non-members): 17:30 – 18:00: Arrival18:00 – 18:10: Introductions18:10 – 18:40: Technical Presentation18:45 – 20.00: Equipment demonstration and networking Our next events are scheduled for June 27th and Nov 13th 2024 (ICorr AGM). For up-to-date information\, visit us on LinkedIn:https://www.linkedin.com/groups/12741864/ \n 
URL:https://www.icorr.org/event/icorr-ne-branch-and-neimme-joint-event/
LOCATION:Neville Hall\, Westgate Road\, Newcastle Upon Tyne\, NE1 1SE\, United Kingdom
CATEGORIES:North East Branch
END:VEVENT
END:VCALENDAR