BEGIN:VCALENDAR
VERSION:2.0
PRODID:-//Institute of Corrosion - ECPv6.15.20//NONSGML v1.0//EN
CALSCALE:GREGORIAN
METHOD:PUBLISH
X-ORIGINAL-URL:https://www.icorr.org
X-WR-CALDESC:Events for Institute of Corrosion
REFRESH-INTERVAL;VALUE=DURATION:PT1H
X-Robots-Tag:noindex
X-PUBLISHED-TTL:PT1H
BEGIN:VTIMEZONE
TZID:Europe/London
BEGIN:DAYLIGHT
TZOFFSETFROM:+0000
TZOFFSETTO:+0100
TZNAME:BST
DTSTART:20170326T010000
END:DAYLIGHT
BEGIN:STANDARD
TZOFFSETFROM:+0100
TZOFFSETTO:+0000
TZNAME:GMT
DTSTART:20171029T010000
END:STANDARD
BEGIN:DAYLIGHT
TZOFFSETFROM:+0000
TZOFFSETTO:+0100
TZNAME:BST
DTSTART:20180325T010000
END:DAYLIGHT
BEGIN:STANDARD
TZOFFSETFROM:+0100
TZOFFSETTO:+0000
TZNAME:GMT
DTSTART:20181028T010000
END:STANDARD
BEGIN:DAYLIGHT
TZOFFSETFROM:+0000
TZOFFSETTO:+0100
TZNAME:BST
DTSTART:20190331T010000
END:DAYLIGHT
BEGIN:STANDARD
TZOFFSETFROM:+0100
TZOFFSETTO:+0000
TZNAME:GMT
DTSTART:20191027T010000
END:STANDARD
END:VTIMEZONE
BEGIN:VEVENT
DTSTART;TZID=Europe/London:20180712T180000
DTEND;TZID=Europe/London:20180712T230000
DTSTAMP:20260420T052954
CREATED:20180612T104113Z
LAST-MODIFIED:20180612T104113Z
UID:3708-1531418400-1531436400@www.icorr.org
SUMMARY:North West Branch - 49th AGM and Golf Day
DESCRIPTION:You are welcome to bring partners\, friends and colleagues\, whether ICorr members or not\, to the golf day\, buffet and AGM. Teams of golfers are welcome. \nDownload Information Leaflet and Registration Form
URL:https://www.icorr.org/event/north-west-branch-49th-agm-and-golf-day/
LOCATION:WA16 0HZ\, Heyrose Golf Club\, Tabley Cheshire\, WA16 0HZ\, United Kingdom
CATEGORIES:North West Branch
END:VEVENT
END:VCALENDAR